BEGIN:VCALENDAR
VERSION:2.0
PRODID:-//Weißwasseraner Schützenverein - ECPv6.15.20//NONSGML v1.0//EN
CALSCALE:GREGORIAN
METHOD:PUBLISH
X-ORIGINAL-URL:http://schuetzenverein-wsw.de
X-WR-CALDESC:Veranstaltungen für Weißwasseraner Schützenverein
REFRESH-INTERVAL;VALUE=DURATION:PT1H
X-Robots-Tag:noindex
X-PUBLISHED-TTL:PT1H
BEGIN:VTIMEZONE
TZID:Europe/Berlin
BEGIN:DAYLIGHT
TZOFFSETFROM:+0100
TZOFFSETTO:+0200
TZNAME:CEST
DTSTART:20190331T010000
END:DAYLIGHT
BEGIN:STANDARD
TZOFFSETFROM:+0200
TZOFFSETTO:+0100
TZNAME:CET
DTSTART:20191027T010000
END:STANDARD
BEGIN:DAYLIGHT
TZOFFSETFROM:+0100
TZOFFSETTO:+0200
TZNAME:CEST
DTSTART:20200329T010000
END:DAYLIGHT
BEGIN:STANDARD
TZOFFSETFROM:+0200
TZOFFSETTO:+0100
TZNAME:CET
DTSTART:20201025T010000
END:STANDARD
BEGIN:DAYLIGHT
TZOFFSETFROM:+0100
TZOFFSETTO:+0200
TZNAME:CEST
DTSTART:20210328T010000
END:DAYLIGHT
BEGIN:STANDARD
TZOFFSETFROM:+0200
TZOFFSETTO:+0100
TZNAME:CET
DTSTART:20211031T010000
END:STANDARD
END:VTIMEZONE
BEGIN:VEVENT
DTSTART;TZID=Europe/Berlin:20200906T093000
DTEND;TZID=Europe/Berlin:20200906T113000
DTSTAMP:20260422T193602
CREATED:20191013T213709Z
LAST-MODIFIED:20200623T155410Z
UID:654-1599384600-1599391800@schuetzenverein-wsw.de
SUMMARY:3. Mitgliederversammlung 2020 / Vorstandswahl
DESCRIPTION:Der Vorstand lädt alle Mitglieder zur Mitgliederversammlung und zur Wahl des neuen Vorstands ein. \nWir würden uns freuen\, wenn viele Mitglieder an der Veranstaltung teilnehmen.
URL:http://schuetzenverein-wsw.de/veranstaltungen/3-mitgliederversammlung-2020/
LOCATION:Gaststätte Quetsche\, Hermann-Moritz-Jacobi-Strasse\, Weißwasser\, 02943\, Deutschland
CATEGORIES:Mitgliederversammlung
ATTACH;FMTTYPE=image/jpeg:http://schuetzenverein-wsw.de/wp-content/uploads/2019/10/Vorstandswahl1.jpg
END:VEVENT
BEGIN:VEVENT
DTSTART;TZID=Europe/Berlin:20200912T090000
DTEND;TZID=Europe/Berlin:20200912T120000
DTSTAMP:20260422T193602
CREATED:20200104T182424Z
LAST-MODIFIED:20200713T065433Z
UID:784-1599901200-1599912000@schuetzenverein-wsw.de
SUMMARY:Kreispokal KK des SK14
DESCRIPTION:
URL:http://schuetzenverein-wsw.de/veranstaltungen/kreispokal-kk-des-sk14/
LOCATION:Schießplatz Weißwasser\, Muskauer Str. 122 b\, Weißwasser\, 02943
CATEGORIES:Wettkampf
ATTACH;FMTTYPE=image/jpeg:http://schuetzenverein-wsw.de/wp-content/uploads/2020/01/image011.jpg
END:VEVENT
END:VCALENDAR