BEGIN:VCALENDAR
VERSION:2.0
PRODID:-//Weißwasseraner Schützenverein - ECPv6.15.20//NONSGML v1.0//EN
CALSCALE:GREGORIAN
METHOD:PUBLISH
X-WR-CALNAME:Weißwasseraner Schützenverein
X-ORIGINAL-URL:http://schuetzenverein-wsw.de
X-WR-CALDESC:Veranstaltungen für Weißwasseraner Schützenverein
REFRESH-INTERVAL;VALUE=DURATION:PT1H
X-Robots-Tag:noindex
X-PUBLISHED-TTL:PT1H
BEGIN:VTIMEZONE
TZID:Europe/Berlin
BEGIN:DAYLIGHT
TZOFFSETFROM:+0100
TZOFFSETTO:+0200
TZNAME:CEST
DTSTART:20190331T010000
END:DAYLIGHT
BEGIN:STANDARD
TZOFFSETFROM:+0200
TZOFFSETTO:+0100
TZNAME:CET
DTSTART:20191027T010000
END:STANDARD
BEGIN:DAYLIGHT
TZOFFSETFROM:+0100
TZOFFSETTO:+0200
TZNAME:CEST
DTSTART:20200329T010000
END:DAYLIGHT
BEGIN:STANDARD
TZOFFSETFROM:+0200
TZOFFSETTO:+0100
TZNAME:CET
DTSTART:20201025T010000
END:STANDARD
BEGIN:DAYLIGHT
TZOFFSETFROM:+0100
TZOFFSETTO:+0200
TZNAME:CEST
DTSTART:20210328T010000
END:DAYLIGHT
BEGIN:STANDARD
TZOFFSETFROM:+0200
TZOFFSETTO:+0100
TZNAME:CET
DTSTART:20211031T010000
END:STANDARD
END:VTIMEZONE
BEGIN:VEVENT
DTSTART;TZID=Europe/Berlin:20200606T183000
DTEND;TZID=Europe/Berlin:20200606T183000
DTSTAMP:20260423T005330
CREATED:20191011T114119Z
LAST-MODIFIED:20200506T164520Z
UID:595-1591468200-1591468200@schuetzenverein-wsw.de
SUMMARY:ABGESAGT!! - Schützenfest zum 30 jährigen Vereinsjubiläum
DESCRIPTION:Wir feiern Jubiläum. 30 Jahre Weißwasseraner Schützenverein.
URL:http://schuetzenverein-wsw.de/veranstaltungen/schuetzenfest-zum-30-jaehrigen-vereinsjubilaeum/
CATEGORIES:Schützenfest / Königsschießen
ATTACH;FMTTYPE=image/jpeg:http://schuetzenverein-wsw.de/wp-content/uploads/2019/10/240_F_212772104_PWucqub4S7Fqk4OavdJRNtGP4nN2w2RB.jpg
END:VEVENT
END:VCALENDAR