BEGIN:VCALENDAR
VERSION:2.0
PRODID:-//Weißwasseraner Schützenverein - ECPv6.15.20//NONSGML v1.0//EN
CALSCALE:GREGORIAN
METHOD:PUBLISH
X-ORIGINAL-URL:http://schuetzenverein-wsw.de
X-WR-CALDESC:Veranstaltungen für Weißwasseraner Schützenverein
REFRESH-INTERVAL;VALUE=DURATION:PT1H
X-Robots-Tag:noindex
X-PUBLISHED-TTL:PT1H
BEGIN:VTIMEZONE
TZID:Europe/Berlin
BEGIN:DAYLIGHT
TZOFFSETFROM:+0100
TZOFFSETTO:+0200
TZNAME:CEST
DTSTART:20190331T010000
END:DAYLIGHT
BEGIN:STANDARD
TZOFFSETFROM:+0200
TZOFFSETTO:+0100
TZNAME:CET
DTSTART:20191027T010000
END:STANDARD
BEGIN:DAYLIGHT
TZOFFSETFROM:+0100
TZOFFSETTO:+0200
TZNAME:CEST
DTSTART:20200329T010000
END:DAYLIGHT
BEGIN:STANDARD
TZOFFSETFROM:+0200
TZOFFSETTO:+0100
TZNAME:CET
DTSTART:20201025T010000
END:STANDARD
BEGIN:DAYLIGHT
TZOFFSETFROM:+0100
TZOFFSETTO:+0200
TZNAME:CEST
DTSTART:20210328T010000
END:DAYLIGHT
BEGIN:STANDARD
TZOFFSETFROM:+0200
TZOFFSETTO:+0100
TZNAME:CET
DTSTART:20211031T010000
END:STANDARD
END:VTIMEZONE
BEGIN:VEVENT
DTSTART;TZID=Europe/Berlin:20200510T093000
DTEND;TZID=Europe/Berlin:20200510T110000
DTSTAMP:20260423T023914
CREATED:20191013T213459Z
LAST-MODIFIED:20200501T092427Z
UID:651-1589103000-1589108400@schuetzenverein-wsw.de
SUMMARY:ABGESAGT!! - 2. Mitgliederversammlung 2020  / Vorstandswahl
DESCRIPTION:Der Vorstand lädt alle Mitglieder zur Mitgliederversammlung ein. \nDer Vorstand lädt alle Mitglieder zur Mitgliederversammlung und zur Wahl des neuen Vorstandes ein. \nWir würden uns freuen\, wenn viele Mitglieder an der Veranstaltung teilnehmen.
URL:http://schuetzenverein-wsw.de/veranstaltungen/2-mitgliederversammlung-2020/
LOCATION:Schießplatz Weißwasser\, Muskauer Str. 122 b\, Weißwasser\, 02943
CATEGORIES:Mitgliederversammlung
ATTACH;FMTTYPE=image/jpeg:http://schuetzenverein-wsw.de/wp-content/uploads/2019/10/Mitgliederversammlung.jpg
END:VEVENT
BEGIN:VEVENT
DTSTART;TZID=Europe/Berlin:20200523T140000
DTEND;TZID=Europe/Berlin:20200523T180000
DTSTAMP:20260423T023914
CREATED:20191018T133721Z
LAST-MODIFIED:20200506T164419Z
UID:675-1590242400-1590256800@schuetzenverein-wsw.de
SUMMARY:ABGESAGT!! - Königsschießen
DESCRIPTION:Ab 14 Uhr findet unser Königsschießen statt.\nTeilnehmen kann jedes Mitglied was eine Uniform des Weißwasseraner Schützenvereins\nbesitzt und mit dieser am Schießen teilnimmt. \nDie Startgebühr beträgt 15 Euro. \nBitte tragt Euch ab April in die ausliegende Liste ein.
URL:http://schuetzenverein-wsw.de/veranstaltungen/koenigsschiessen/
LOCATION:Schießplatz Weißwasser\, Muskauer Str. 122 b\, Weißwasser\, 02943
CATEGORIES:Schützenfest / Königsschießen
ATTACH;FMTTYPE=image/jpeg:http://schuetzenverein-wsw.de/wp-content/uploads/2019/10/adler.jpg
END:VEVENT
END:VCALENDAR