BEGIN:VCALENDAR
VERSION:2.0
PRODID:-//Weißwasseraner Schützenverein - ECPv6.15.20//NONSGML v1.0//EN
CALSCALE:GREGORIAN
METHOD:PUBLISH
X-ORIGINAL-URL:http://schuetzenverein-wsw.de
X-WR-CALDESC:Veranstaltungen für Weißwasseraner Schützenverein
REFRESH-INTERVAL;VALUE=DURATION:PT1H
X-Robots-Tag:noindex
X-PUBLISHED-TTL:PT1H
BEGIN:VTIMEZONE
TZID:Europe/Berlin
BEGIN:DAYLIGHT
TZOFFSETFROM:+0100
TZOFFSETTO:+0200
TZNAME:CEST
DTSTART:20190331T010000
END:DAYLIGHT
BEGIN:STANDARD
TZOFFSETFROM:+0200
TZOFFSETTO:+0100
TZNAME:CET
DTSTART:20191027T010000
END:STANDARD
BEGIN:DAYLIGHT
TZOFFSETFROM:+0100
TZOFFSETTO:+0200
TZNAME:CEST
DTSTART:20200329T010000
END:DAYLIGHT
BEGIN:STANDARD
TZOFFSETFROM:+0200
TZOFFSETTO:+0100
TZNAME:CET
DTSTART:20201025T010000
END:STANDARD
BEGIN:DAYLIGHT
TZOFFSETFROM:+0100
TZOFFSETTO:+0200
TZNAME:CEST
DTSTART:20210328T010000
END:DAYLIGHT
BEGIN:STANDARD
TZOFFSETFROM:+0200
TZOFFSETTO:+0100
TZNAME:CET
DTSTART:20211031T010000
END:STANDARD
END:VTIMEZONE
BEGIN:VEVENT
DTSTART;TZID=Europe/Berlin:20200104T140000
DTEND;TZID=Europe/Berlin:20200104T180000
DTSTAMP:20260423T124848
CREATED:20191013T201712Z
LAST-MODIFIED:20191020T202726Z
UID:640-1578146400-1578160800@schuetzenverein-wsw.de
SUMMARY:Skatturnier
DESCRIPTION:
URL:http://schuetzenverein-wsw.de/veranstaltungen/skatturnier/
LOCATION:Schießplatz Weißwasser\, Muskauer Str. 122 b\, Weißwasser\, 02943
ATTACH;FMTTYPE=image/jpeg:http://schuetzenverein-wsw.de/wp-content/uploads/2019/10/skatturnier1.jpg
END:VEVENT
BEGIN:VEVENT
DTSTART;TZID=Europe/Berlin:20200117T140000
DTEND;TZID=Europe/Berlin:20200119T120000
DTSTAMP:20260423T124848
CREATED:20191020T200752Z
LAST-MODIFIED:20191020T210524Z
UID:681-1579269600-1579435200@schuetzenverein-wsw.de
SUMMARY:Vereinsmeisterschaft Druckluftwaffen
DESCRIPTION:
URL:http://schuetzenverein-wsw.de/veranstaltungen/vereinsmeisterschaft-druckluftwaffen/
LOCATION:Schießplatz Weißwasser\, Muskauer Str. 122 b\, Weißwasser\, 02943
CATEGORIES:Wettkampf
ATTACH;FMTTYPE=image/jpeg:http://schuetzenverein-wsw.de/wp-content/uploads/2019/10/VM_DLW.jpg
END:VEVENT
END:VCALENDAR