BEGIN:VCALENDAR
VERSION:2.0
PRODID:-//Weißwasseraner Schützenverein - ECPv6.15.20//NONSGML v1.0//EN
CALSCALE:GREGORIAN
METHOD:PUBLISH
X-WR-CALNAME:Weißwasseraner Schützenverein
X-ORIGINAL-URL:http://schuetzenverein-wsw.de
X-WR-CALDESC:Veranstaltungen für Weißwasseraner Schützenverein
REFRESH-INTERVAL;VALUE=DURATION:PT1H
X-Robots-Tag:noindex
X-PUBLISHED-TTL:PT1H
BEGIN:VTIMEZONE
TZID:Europe/Berlin
BEGIN:DAYLIGHT
TZOFFSETFROM:+0100
TZOFFSETTO:+0200
TZNAME:CEST
DTSTART:20180325T010000
END:DAYLIGHT
BEGIN:STANDARD
TZOFFSETFROM:+0200
TZOFFSETTO:+0100
TZNAME:CET
DTSTART:20181028T010000
END:STANDARD
BEGIN:DAYLIGHT
TZOFFSETFROM:+0100
TZOFFSETTO:+0200
TZNAME:CEST
DTSTART:20190331T010000
END:DAYLIGHT
BEGIN:STANDARD
TZOFFSETFROM:+0200
TZOFFSETTO:+0100
TZNAME:CET
DTSTART:20191027T010000
END:STANDARD
BEGIN:DAYLIGHT
TZOFFSETFROM:+0100
TZOFFSETTO:+0200
TZNAME:CEST
DTSTART:20200329T010000
END:DAYLIGHT
BEGIN:STANDARD
TZOFFSETFROM:+0200
TZOFFSETTO:+0100
TZNAME:CET
DTSTART:20201025T010000
END:STANDARD
END:VTIMEZONE
BEGIN:VEVENT
DTSTART;TZID=Europe/Berlin:20191116T090000
DTEND;TZID=Europe/Berlin:20191116T110000
DTSTAMP:20260423T141711
CREATED:20191013T192418Z
LAST-MODIFIED:20191020T201415Z
UID:637-1573894800-1573902000@schuetzenverein-wsw.de
SUMMARY:4. Mitgliederversammlung
DESCRIPTION:
URL:http://schuetzenverein-wsw.de/veranstaltungen/4-mitgliederversammlung/
LOCATION:Schießplatz Weißwasser\, Muskauer Str. 122 b\, Weißwasser\, 02943
CATEGORIES:Mitgliederversammlung
ATTACH;FMTTYPE=image/jpeg:http://schuetzenverein-wsw.de/wp-content/uploads/2019/10/Mitgliederversammlung.jpg
END:VEVENT
BEGIN:VEVENT
DTSTART;TZID=Europe/Berlin:20191116T183000
DTEND;TZID=Europe/Berlin:20191116T233000
DTSTAMP:20260423T141711
CREATED:20190926T223648Z
LAST-MODIFIED:20191020T204438Z
UID:489-1573929000-1573947000@schuetzenverein-wsw.de
SUMMARY:Jahresabschlußfeier
DESCRIPTION:Bitte Tragt euch in die Teilnehmerliste im Verein ein. \nUnkostenbeitrag:\nVereinsmitglieder und Partner je 15\,00€ / Gäste: 20\,00€
URL:http://schuetzenverein-wsw.de/veranstaltungen/4-mitgliederversammlung-jahresabschlussfeier/
CATEGORIES:Wettkampf
ATTACH;FMTTYPE=image/jpeg:http://schuetzenverein-wsw.de/wp-content/uploads/2019/09/jahresabschlussfeier-sekt-1140x641.jpg
END:VEVENT
END:VCALENDAR