BEGIN:VCALENDAR
VERSION:2.0
PRODID:-//Weißwasseraner Schützenverein - ECPv6.15.20//NONSGML v1.0//EN
CALSCALE:GREGORIAN
METHOD:PUBLISH
X-WR-CALNAME:Weißwasseraner Schützenverein
X-ORIGINAL-URL:http://schuetzenverein-wsw.de
X-WR-CALDESC:Veranstaltungen für Weißwasseraner Schützenverein
REFRESH-INTERVAL;VALUE=DURATION:PT1H
X-Robots-Tag:noindex
X-PUBLISHED-TTL:PT1H
BEGIN:VTIMEZONE
TZID:Europe/Berlin
BEGIN:DAYLIGHT
TZOFFSETFROM:+0100
TZOFFSETTO:+0200
TZNAME:CEST
DTSTART:20180325T010000
END:DAYLIGHT
BEGIN:STANDARD
TZOFFSETFROM:+0200
TZOFFSETTO:+0100
TZNAME:CET
DTSTART:20181028T010000
END:STANDARD
BEGIN:DAYLIGHT
TZOFFSETFROM:+0100
TZOFFSETTO:+0200
TZNAME:CEST
DTSTART:20190331T010000
END:DAYLIGHT
BEGIN:STANDARD
TZOFFSETFROM:+0200
TZOFFSETTO:+0100
TZNAME:CET
DTSTART:20191027T010000
END:STANDARD
BEGIN:DAYLIGHT
TZOFFSETFROM:+0100
TZOFFSETTO:+0200
TZNAME:CEST
DTSTART:20200329T010000
END:DAYLIGHT
BEGIN:STANDARD
TZOFFSETFROM:+0200
TZOFFSETTO:+0100
TZNAME:CET
DTSTART:20201025T010000
END:STANDARD
END:VTIMEZONE
BEGIN:VEVENT
DTSTART;TZID=Europe/Berlin:20191026T090000
DTEND;TZID=Europe/Berlin:20191026T140000
DTSTAMP:20260423T155836
CREATED:20190927T164425Z
LAST-MODIFIED:20191020T203033Z
UID:522-1572080400-1572098400@schuetzenverein-wsw.de
SUMMARY:Vereinsmeisterschaft Ordonanzgewehr 100m und Trap
DESCRIPTION:Vereinsmeisterschaft Ordonanzgewehr 100 m und Trap
URL:http://schuetzenverein-wsw.de/veranstaltungen/vereinsmeisterschaft-ordonanzgewehr-100m-und-trap/
LOCATION:Schießplatz Steinbach\, Steinbacher Str. 14a\, Rothenburg/Oberlausitz\, 02929
CATEGORIES:Wettkampf
END:VEVENT
END:VCALENDAR