BEGIN:VCALENDAR
VERSION:2.0
PRODID:-//Weißwasseraner Schützenverein - ECPv6.15.20//NONSGML v1.0//EN
CALSCALE:GREGORIAN
METHOD:PUBLISH
X-ORIGINAL-URL:http://schuetzenverein-wsw.de
X-WR-CALDESC:Veranstaltungen für Weißwasseraner Schützenverein
REFRESH-INTERVAL;VALUE=DURATION:PT1H
X-Robots-Tag:noindex
X-PUBLISHED-TTL:PT1H
BEGIN:VTIMEZONE
TZID:UTC
BEGIN:STANDARD
TZOFFSETFROM:+0000
TZOFFSETTO:+0000
TZNAME:UTC
DTSTART:20190101T000000
END:STANDARD
END:VTIMEZONE
BEGIN:VEVENT
DTSTART;TZID=UTC:20201128T183000
DTEND;TZID=UTC:20201128T235959
DTSTAMP:20260422T173638
CREATED:20200606T163412Z
LAST-MODIFIED:20201025T164940Z
UID:901-1606588200-1606607999@schuetzenverein-wsw.de
SUMMARY:ACHTUNG ABGESAGT!!!!    Jubiläumsfeier - 30 Jahre Weißwasseraner Schützenverein
DESCRIPTION:Leider müssen wir unsere Feier zum Jubiläum „30 Jahre Weißwasseraner Schützenverein“ erneut absagen.
URL:http://schuetzenverein-wsw.de/veranstaltungen/jubilaeumsfeier-30-jahre-schuetzenverein-weisswasser-e-v/
CATEGORIES:Schützenfest / Königsschießen
ATTACH;FMTTYPE=image/jpeg:http://schuetzenverein-wsw.de/wp-content/uploads/2020/06/30-Jahre-WSV.jpg
END:VEVENT
END:VCALENDAR