BEGIN:VCALENDAR
VERSION:2.0
PRODID:-//Weißwasseraner Schützenverein - ECPv6.15.20//NONSGML v1.0//EN
CALSCALE:GREGORIAN
METHOD:PUBLISH
X-ORIGINAL-URL:http://schuetzenverein-wsw.de
X-WR-CALDESC:Veranstaltungen für Weißwasseraner Schützenverein
REFRESH-INTERVAL;VALUE=DURATION:PT1H
X-Robots-Tag:noindex
X-PUBLISHED-TTL:PT1H
BEGIN:VTIMEZONE
TZID:UTC
BEGIN:STANDARD
TZOFFSETFROM:+0000
TZOFFSETTO:+0000
TZNAME:UTC
DTSTART:20190101T000000
END:STANDARD
END:VTIMEZONE
BEGIN:VTIMEZONE
TZID:Europe/Berlin
BEGIN:DAYLIGHT
TZOFFSETFROM:+0100
TZOFFSETTO:+0200
TZNAME:CEST
DTSTART:20190331T010000
END:DAYLIGHT
BEGIN:STANDARD
TZOFFSETFROM:+0200
TZOFFSETTO:+0100
TZNAME:CET
DTSTART:20191027T010000
END:STANDARD
BEGIN:DAYLIGHT
TZOFFSETFROM:+0100
TZOFFSETTO:+0200
TZNAME:CEST
DTSTART:20200329T010000
END:DAYLIGHT
BEGIN:STANDARD
TZOFFSETFROM:+0200
TZOFFSETTO:+0100
TZNAME:CET
DTSTART:20201025T010000
END:STANDARD
BEGIN:DAYLIGHT
TZOFFSETFROM:+0100
TZOFFSETTO:+0200
TZNAME:CEST
DTSTART:20210328T010000
END:DAYLIGHT
BEGIN:STANDARD
TZOFFSETFROM:+0200
TZOFFSETTO:+0100
TZNAME:CET
DTSTART:20211031T010000
END:STANDARD
END:VTIMEZONE
BEGIN:VEVENT
DTSTART;TZID=UTC:20200704T083000
DTEND;TZID=UTC:20200704T130000
DTSTAMP:20260423T004806
CREATED:20200607T164616Z
LAST-MODIFIED:20200607T164618Z
UID:921-1593851400-1593867600@schuetzenverein-wsw.de
SUMMARY:Arbeitseinsatz
DESCRIPTION:
URL:http://schuetzenverein-wsw.de/veranstaltungen/arbeitseinsatz/
CATEGORIES:Arbeitseinsatz
END:VEVENT
BEGIN:VEVENT
DTSTART;TZID=Europe/Berlin:20200704T090000
DTEND;TZID=Europe/Berlin:20200704T120000
DTSTAMP:20260423T004806
CREATED:20200104T180458Z
LAST-MODIFIED:20200104T180458Z
UID:778-1593853200-1593864000@schuetzenverein-wsw.de
SUMMARY:Kreismeisterschaft Vorderlader
DESCRIPTION:
URL:http://schuetzenverein-wsw.de/veranstaltungen/kreismeisterschaft-vorderlader/
CATEGORIES:Wettkampf
ATTACH;FMTTYPE=image/jpeg:http://schuetzenverein-wsw.de/wp-content/uploads/2020/01/Vorderlader.jpg
END:VEVENT
END:VCALENDAR