BEGIN:VCALENDAR
VERSION:2.0
PRODID:-//Weißwasseraner Schützenverein - ECPv6.15.20//NONSGML v1.0//EN
CALSCALE:GREGORIAN
METHOD:PUBLISH
X-WR-CALNAME:Weißwasseraner Schützenverein
X-ORIGINAL-URL:http://schuetzenverein-wsw.de
X-WR-CALDESC:Veranstaltungen für Weißwasseraner Schützenverein
REFRESH-INTERVAL;VALUE=DURATION:PT1H
X-Robots-Tag:noindex
X-PUBLISHED-TTL:PT1H
BEGIN:VTIMEZONE
TZID:Europe/Berlin
BEGIN:DAYLIGHT
TZOFFSETFROM:+0100
TZOFFSETTO:+0200
TZNAME:CEST
DTSTART:20190331T010000
END:DAYLIGHT
BEGIN:STANDARD
TZOFFSETFROM:+0200
TZOFFSETTO:+0100
TZNAME:CET
DTSTART:20191027T010000
END:STANDARD
BEGIN:DAYLIGHT
TZOFFSETFROM:+0100
TZOFFSETTO:+0200
TZNAME:CEST
DTSTART:20200329T010000
END:DAYLIGHT
BEGIN:STANDARD
TZOFFSETFROM:+0200
TZOFFSETTO:+0100
TZNAME:CET
DTSTART:20201025T010000
END:STANDARD
BEGIN:DAYLIGHT
TZOFFSETFROM:+0100
TZOFFSETTO:+0200
TZNAME:CEST
DTSTART:20210328T010000
END:DAYLIGHT
BEGIN:STANDARD
TZOFFSETFROM:+0200
TZOFFSETTO:+0100
TZNAME:CET
DTSTART:20211031T010000
END:STANDARD
END:VTIMEZONE
BEGIN:VEVENT
DTSTART;TZID=Europe/Berlin:20200321T090000
DTEND;TZID=Europe/Berlin:20200321T120000
DTSTAMP:20260423T075647
CREATED:20191020T204907Z
LAST-MODIFIED:20200219T123843Z
UID:693-1584781200-1584792000@schuetzenverein-wsw.de
SUMMARY:Kreismeisterschaft GK Kurzwaffe
DESCRIPTION:
URL:http://schuetzenverein-wsw.de/veranstaltungen/kreismeisterschaft-gk-kurzwaffe/
LOCATION:Schützenverein Groß Düben\, Horlitzaweg 11B\, Groß Düben\, 02959\, Deutschland
CATEGORIES:Wettkampf
ATTACH;FMTTYPE=image/gif:http://schuetzenverein-wsw.de/wp-content/uploads/2019/10/bild_grosskaliberkurzwaffen.gif
END:VEVENT
END:VCALENDAR