BEGIN:VCALENDAR
VERSION:2.0
PRODID:-//Weißwasseraner Schützenverein - ECPv6.15.20//NONSGML v1.0//EN
CALSCALE:GREGORIAN
METHOD:PUBLISH
X-ORIGINAL-URL:http://schuetzenverein-wsw.de
X-WR-CALDESC:Veranstaltungen für Weißwasseraner Schützenverein
REFRESH-INTERVAL;VALUE=DURATION:PT1H
X-Robots-Tag:noindex
X-PUBLISHED-TTL:PT1H
BEGIN:VTIMEZONE
TZID:Europe/Berlin
BEGIN:DAYLIGHT
TZOFFSETFROM:+0100
TZOFFSETTO:+0200
TZNAME:CEST
DTSTART:20190331T010000
END:DAYLIGHT
BEGIN:STANDARD
TZOFFSETFROM:+0200
TZOFFSETTO:+0100
TZNAME:CET
DTSTART:20191027T010000
END:STANDARD
BEGIN:DAYLIGHT
TZOFFSETFROM:+0100
TZOFFSETTO:+0200
TZNAME:CEST
DTSTART:20200329T010000
END:DAYLIGHT
BEGIN:STANDARD
TZOFFSETFROM:+0200
TZOFFSETTO:+0100
TZNAME:CET
DTSTART:20201025T010000
END:STANDARD
BEGIN:DAYLIGHT
TZOFFSETFROM:+0100
TZOFFSETTO:+0200
TZNAME:CEST
DTSTART:20210328T010000
END:DAYLIGHT
BEGIN:STANDARD
TZOFFSETFROM:+0200
TZOFFSETTO:+0100
TZNAME:CET
DTSTART:20211031T010000
END:STANDARD
END:VTIMEZONE
BEGIN:VEVENT
DTSTART;TZID=Europe/Berlin:20200216T093000
DTEND;TZID=Europe/Berlin:20200216T093000
DTSTAMP:20260423T094058
CREATED:20191013T202026Z
LAST-MODIFIED:20200110T100715Z
UID:643-1581845400-1581845400@schuetzenverein-wsw.de
SUMMARY:1. Mitgliederversammlung 2020
DESCRIPTION:Der Vorstand lädt alle Mitglieder zur Mitgliederversammlung ein.
URL:http://schuetzenverein-wsw.de/veranstaltungen/1-mitgliederversammlung-2020/
LOCATION:Schießplatz Weißwasser\, Muskauer Str. 122 b\, Weißwasser\, 02943
CATEGORIES:Mitgliederversammlung
ATTACH;FMTTYPE=image/jpeg:http://schuetzenverein-wsw.de/wp-content/uploads/2019/10/Mitgliederversammlung.jpg
END:VEVENT
END:VCALENDAR