BEGIN:VCALENDAR
VERSION:2.0
PRODID:-//Weißwasseraner Schützenverein - ECPv6.15.20//NONSGML v1.0//EN
CALSCALE:GREGORIAN
METHOD:PUBLISH
X-ORIGINAL-URL:http://schuetzenverein-wsw.de
X-WR-CALDESC:Veranstaltungen für Weißwasseraner Schützenverein
REFRESH-INTERVAL;VALUE=DURATION:PT1H
X-Robots-Tag:noindex
X-PUBLISHED-TTL:PT1H
BEGIN:VTIMEZONE
TZID:Europe/Berlin
BEGIN:DAYLIGHT
TZOFFSETFROM:+0100
TZOFFSETTO:+0200
TZNAME:CEST
DTSTART:20190331T010000
END:DAYLIGHT
BEGIN:STANDARD
TZOFFSETFROM:+0200
TZOFFSETTO:+0100
TZNAME:CET
DTSTART:20191027T010000
END:STANDARD
BEGIN:DAYLIGHT
TZOFFSETFROM:+0100
TZOFFSETTO:+0200
TZNAME:CEST
DTSTART:20200329T010000
END:DAYLIGHT
BEGIN:STANDARD
TZOFFSETFROM:+0200
TZOFFSETTO:+0100
TZNAME:CET
DTSTART:20201025T010000
END:STANDARD
BEGIN:DAYLIGHT
TZOFFSETFROM:+0100
TZOFFSETTO:+0200
TZNAME:CEST
DTSTART:20210328T010000
END:DAYLIGHT
BEGIN:STANDARD
TZOFFSETFROM:+0200
TZOFFSETTO:+0100
TZNAME:CET
DTSTART:20211031T010000
END:STANDARD
END:VTIMEZONE
BEGIN:VEVENT
DTSTART;TZID=Europe/Berlin:20200208T090000
DTEND;TZID=Europe/Berlin:20200209T120000
DTSTAMP:20260423T094048
CREATED:20191020T203321Z
LAST-MODIFIED:20191020T204528Z
UID:687-1581152400-1581249600@schuetzenverein-wsw.de
SUMMARY:Kreismeisterschaft Druckluftwaffen / Kreiskönigsschießen
DESCRIPTION:
URL:http://schuetzenverein-wsw.de/veranstaltungen/kreismeisterschaft-druckluftwaffen-kreiskoenigsschiessen/
LOCATION:Schießplatz Weißwasser\, Muskauer Str. 122 b\, Weißwasser\, 02943
CATEGORIES:Wettkampf
ATTACH;FMTTYPE=image/jpeg:http://schuetzenverein-wsw.de/wp-content/uploads/2019/10/gold-pellet.jpg
END:VEVENT
END:VCALENDAR